BEGIN:VCALENDAR
VERSION:2.0
PRODID:-//ChamberMaster//Event Calendar 2.0//EN
METHOD:PUBLISH
X-PUBLISHED-TTL:P1H
REFRESH-INTERVAL:P1H
CALSCALE:GREGORIAN
BEGIN:VTIMEZONE
TZID:America/New_York
BEGIN:DAYLIGHT
RRULE:FREQ=YEARLY;BYMONTH=3;BYDAY=2SU
DTSTART:20070101T000000
TZOFFSETFROM:-0500
TZOFFSETTO:-0400
TZNAME:Eastern Daylight Time
END:DAYLIGHT
BEGIN:STANDARD
RRULE:FREQ=YEARLY;BYMONTH=11;BYDAY=1SU
DTSTART:20070101T000000
TZOFFSETFROM:-0400
TZOFFSETTO:-0500
TZNAME:Eastern Standard Time
END:STANDARD
END:VTIMEZONE
BEGIN:VEVENT
DTSTART;TZID=America/New_York:20260719T120000
DTEND;TZID=America/New_York:20260719T160000
X-MICROSOFT-CDO-ALLDAYEVENT:FALSE
SUMMARY:2026 Student Market
DESCRIPTION:From handmade goods and art to baked treats\, and more\, this market highlights the creativity and hustle of our local students.
X-ALT-DESC;FMTTYPE=text/html:From handmade goods and art to baked treats\, and more\, this market highlights the creativity and hustle of our local students.
LOCATION:2076 N. 100 E. Warsaw IN 46582
UID:e.3736.1275126
SEQUENCE:3
DTSTAMP:20260421T145304Z
URL:https://my.kchamber.com/chambereventcalendar/Details/2026-student-market-1493108?sourceTypeId=Hub
END:VEVENT
END:VCALENDAR
